BEGIN:VCALENDAR
VERSION:2.0
PRODID:-//hacksw/handcal//NONSGML v1.0//EN
BEGIN:VEVENT
DTSTART:20260609T153000
DTEND:20260609T170000
LOCATION:FERRANDI Paris- campus de St Gratien \n17 Bd Pasteur \n95210 St Gratien
ORGANIZER;CN=Marie-Pascale Ragon:MAILTO:mpragon@ferrandi-paris.fr
SUMMARY:Invitation Meet up et rencontre des équipes dirigeantes du Ritz Paris
DESCRIPTION:Chères Ferrandiennes, Chers Ferrandiens,Dans la cadre de la convention signée entre FERRANDI Paris et le Ritz, nous avons le plaisir de vous inviter à un meet-up exceptionnel sur notre campus de St...
URL:https://www.ferrandialumni.fr/fr/event/invitation-meet-up-et-rencontre-des-equipes-dirigeantes-du-ritz-paris/2026/06/09/186
BEGIN:VALARM
TRIGGER:-P0DT1H0M0S
ACTION:DISPLAY
END:VALARM
END:VEVENT
END:VCALENDAR