BEGIN:VCALENDAR
VERSION:2.0
PRODID:-//hacksw/handcal//NONSGML v1.0//EN
BEGIN:VEVENT
DTSTART:20260603T183000
DTEND:20260603T200000
LOCATION:FERRANDI Paris \n30 rue de l'Abbé Grégoire \n75006 Paris
ORGANIZER;CN=Marie-Pascale Ragon:MAILTO:mpragon@ferrandi-paris.fr
SUMMARY:Conférence Inspire I Chef Damien et Charlotte Figarede (Alumna de Ferrandi), fondateurs de Necense
DESCRIPTION:Chers Ferrandiens, Chères Ferrandiennes, (English version - scroll down)\nJ'ai le plaisir de vous convier à la conférence Inspire qui se tiendra le mercredi 3 juin à 18h30 à Ferrandi Paris, qui aura...
URL:https://www.ferrandialumni.fr/fr/event/conference-inspire-i-chef-damien-et-charlotte-figarede-alumna-de-ferrandi-fondateurs-de-necense/2026/06/03/185
BEGIN:VALARM
TRIGGER:-P0DT1H0M0S
ACTION:DISPLAY
END:VALARM
END:VEVENT
END:VCALENDAR