BEGIN:VCALENDAR
VERSION:2.0
PRODID:-//hacksw/handcal//NONSGML v1.0//EN
BEGIN:VEVENT
DTSTART:20260519T173000
DTEND:20260519T183000
LOCATION:FERRANDI - Campus de Bordeaux \n10 rue René Cassin \n33 049 Bordeaux
ORGANIZER;CN=Marie-Pascale Ragon:MAILTO:mpragon@ferrandi-paris.fr
SUMMARY:Conférence Inspire 19 mai - campus de Bordeaux
DESCRIPTION:Chers Ferrandiens, Chères Ferrandiennes, (English version scroll down)\nJ'ai le plaisir de vous convier à la conférence Inspire qui se tiendra le mardi 19 mai à 17h30 sur le campus de Bordeaux.\n👉...
URL:https://www.ferrandialumni.fr/fr/event/conference-inspire-19-mai-campus-de-bordeaux/2026/05/19/183
BEGIN:VALARM
TRIGGER:-P0DT1H0M0S
ACTION:DISPLAY
END:VALARM
END:VEVENT
END:VCALENDAR