BEGIN:VCALENDAR
VERSION:2.0
PRODID:-//hacksw/handcal//NONSGML v1.0//EN
BEGIN:VEVENT
DTSTART:20260527T183000
DTEND:20260527T194500
LOCATION:FERRANDI Paris \n30 rue de l'Abbé Grégoire \n75006 Paris
ORGANIZER;CN=Marie-Pascale Ragon:MAILTO:mpragon@ferrandi-paris.fr
SUMMARY:Thé Taiwanais : cérémonie du thé, dégustation et découverte
DESCRIPTION:Chers Ferrandiens, Chères Ferrandiennes, (scroll down for the English version)\nJe vous invite le mercredi 27 mai à 18h30 à un moment unique de découverte et de voyage à l’occasion de la venue...
URL:https://www.ferrandialumni.fr/en/event/the-taiwanais-ceremonie-du-the-degustation-et-decouverte/2026/05/27/184
BEGIN:VALARM
TRIGGER:-P0DT1H0M0S
ACTION:DISPLAY
END:VALARM
END:VEVENT
END:VCALENDAR